BEGIN:VCALENDAR
VERSION:2.0
PRODID:-//AMOS - ECPv6.15.20//NONSGML v1.0//EN
CALSCALE:GREGORIAN
METHOD:PUBLISH
X-ORIGINAL-URL:https://ashevillescience.org
X-WR-CALDESC:Events for AMOS
REFRESH-INTERVAL;VALUE=DURATION:PT1H
X-Robots-Tag:noindex
X-PUBLISHED-TTL:PT1H
BEGIN:VTIMEZONE
TZID:America/New_York
BEGIN:DAYLIGHT
TZOFFSETFROM:-0500
TZOFFSETTO:-0400
TZNAME:EDT
DTSTART:20250309T070000
END:DAYLIGHT
BEGIN:STANDARD
TZOFFSETFROM:-0400
TZOFFSETTO:-0500
TZNAME:EST
DTSTART:20251102T060000
END:STANDARD
BEGIN:DAYLIGHT
TZOFFSETFROM:-0500
TZOFFSETTO:-0400
TZNAME:EDT
DTSTART:20260308T070000
END:DAYLIGHT
BEGIN:STANDARD
TZOFFSETFROM:-0400
TZOFFSETTO:-0500
TZNAME:EST
DTSTART:20261101T060000
END:STANDARD
BEGIN:DAYLIGHT
TZOFFSETFROM:-0500
TZOFFSETTO:-0400
TZNAME:EDT
DTSTART:20270314T070000
END:DAYLIGHT
BEGIN:STANDARD
TZOFFSETFROM:-0400
TZOFFSETTO:-0500
TZNAME:EST
DTSTART:20271107T060000
END:STANDARD
END:VTIMEZONE
BEGIN:VEVENT
DTSTART;TZID=America/New_York:20260502T173000
DTEND;TZID=America/New_York:20260502T203000
DTSTAMP:20260424T013928
CREATED:20260304T181541Z
LAST-MODIFIED:20260304T181558Z
UID:2901-1777743000-1777753800@ashevillescience.org
SUMMARY:Dinner Under Dinos
DESCRIPTION:Parents- enjoy a night out downtown during Asheville’s Restaurant Week while treating your kid(s) to a special after-hours event just for them- dinner and a movie at AMOS! \nClick here for tickets!\n—————————————————————————————–\nThis fun-filled night includes cheese pizza from a local vendor\, free exhibit play\, scavenger hunts for special prizes\, and an optional kid-friendly movie. Parent drop-off begins at 5:30 with a pickup time between 8:30-9:00\, plenty of time for you to enjoy a meal and get in a little shopping! \nDinner Under Dinos is for children 5+. All children must be able to go to the bathroom independently. Children may also bring a cozy blanket\, water bottle\, snacks or an alternative meal. For more info contact edu@ashevillescience.org. \nTime: 5:30pm-8:30pm – Child(ren) must be picked up no later than 9:00pm; late fees apply after 9:00. \nAge: 5+ * All children must be able to use the restroom independently to participate.\n \nCost: First Child = $35.00; Additional Sibling = $30.00
URL:https://ashevillescience.org/event/dinner-under-dinos-may26/
LOCATION:Asheville Museum of Science\, 43 Patton Ave\, Asheville\, NC\, 28801\, United States
CATEGORIES:After Hours Events
ATTACH;FMTTYPE=image/jpeg:https://ashevillescience.org/wp-content/uploads/Dinner-Under-Dinos-Website-600-x-338-px.jpg
ORGANIZER;CN="Asheville Museum of Science":MAILTO:abryant
END:VEVENT
END:VCALENDAR