BEGIN:VCALENDAR
VERSION:2.0
PRODID:-//AMOS - ECPv6.15.20//NONSGML v1.0//EN
CALSCALE:GREGORIAN
METHOD:PUBLISH
X-ORIGINAL-URL:https://ashevillescience.org
X-WR-CALDESC:Events for AMOS
REFRESH-INTERVAL;VALUE=DURATION:PT1H
X-Robots-Tag:noindex
X-PUBLISHED-TTL:PT1H
BEGIN:VTIMEZONE
TZID:America/New_York
BEGIN:DAYLIGHT
TZOFFSETFROM:-0500
TZOFFSETTO:-0400
TZNAME:EDT
DTSTART:20240310T070000
END:DAYLIGHT
BEGIN:STANDARD
TZOFFSETFROM:-0400
TZOFFSETTO:-0500
TZNAME:EST
DTSTART:20241103T060000
END:STANDARD
BEGIN:DAYLIGHT
TZOFFSETFROM:-0500
TZOFFSETTO:-0400
TZNAME:EDT
DTSTART:20250309T070000
END:DAYLIGHT
BEGIN:STANDARD
TZOFFSETFROM:-0400
TZOFFSETTO:-0500
TZNAME:EST
DTSTART:20251102T060000
END:STANDARD
BEGIN:DAYLIGHT
TZOFFSETFROM:-0500
TZOFFSETTO:-0400
TZNAME:EDT
DTSTART:20260308T070000
END:DAYLIGHT
BEGIN:STANDARD
TZOFFSETFROM:-0400
TZOFFSETTO:-0500
TZNAME:EST
DTSTART:20261101T060000
END:STANDARD
END:VTIMEZONE
BEGIN:VEVENT
DTSTART;TZID=America/New_York:20250101T100000
DTEND;TZID=America/New_York:20250131T170000
DTSTAMP:20260423T091029
CREATED:20241213T132400Z
LAST-MODIFIED:20241213T132400Z
UID:1933-1735725600-1738342800@ashevillescience.org
SUMMARY:HIDE AND SEEK
DESCRIPTION:How do animals play hide and seek?\nExperiment with camouflage\, investigate biomimicry\, and learn from animals to design and develop tools to help you attract or repel attention! \nCome up with a new design for a “scarecrow”\, make a fascinator or wearable lure\, construct your own “stay away” badge\, and play animal-themed puzzles and games with your friends and family.
URL:https://ashevillescience.org/event/hide-and-seek/
LOCATION:NC
CATEGORIES:STEAM Lab
ATTACH;FMTTYPE=image/jpeg:https://ashevillescience.org/wp-content/uploads/HideandSeek.jpg
END:VEVENT
END:VCALENDAR