BEGIN:VCALENDAR
VERSION:2.0
PRODID:-//AMOS - ECPv6.15.20//NONSGML v1.0//EN
CALSCALE:GREGORIAN
METHOD:PUBLISH
X-ORIGINAL-URL:https://ashevillescience.org
X-WR-CALDESC:Events for AMOS
REFRESH-INTERVAL;VALUE=DURATION:PT1H
X-Robots-Tag:noindex
X-PUBLISHED-TTL:PT1H
BEGIN:VTIMEZONE
TZID:America/New_York
BEGIN:DAYLIGHT
TZOFFSETFROM:-0500
TZOFFSETTO:-0400
TZNAME:EDT
DTSTART:20230312T070000
END:DAYLIGHT
BEGIN:STANDARD
TZOFFSETFROM:-0400
TZOFFSETTO:-0500
TZNAME:EST
DTSTART:20231105T060000
END:STANDARD
BEGIN:DAYLIGHT
TZOFFSETFROM:-0500
TZOFFSETTO:-0400
TZNAME:EDT
DTSTART:20240310T070000
END:DAYLIGHT
BEGIN:STANDARD
TZOFFSETFROM:-0400
TZOFFSETTO:-0500
TZNAME:EST
DTSTART:20241103T060000
END:STANDARD
BEGIN:DAYLIGHT
TZOFFSETFROM:-0500
TZOFFSETTO:-0400
TZNAME:EDT
DTSTART:20250309T070000
END:DAYLIGHT
BEGIN:STANDARD
TZOFFSETFROM:-0400
TZOFFSETTO:-0500
TZNAME:EST
DTSTART:20251102T060000
END:STANDARD
END:VTIMEZONE
BEGIN:VEVENT
DTSTART;TZID=America/New_York:20241201T100000
DTEND;TZID=America/New_York:20241201T133000
DTSTAMP:20260419T163814
CREATED:20241113T213427Z
LAST-MODIFIED:20241123T184928Z
UID:1883-1733047200-1733059800@ashevillescience.org
SUMMARY:AMOS Family Workshops: STEAM Advent Calendars
DESCRIPTION:Join us at AMOS for a special workshop to kick off the holiday season- STEAM Advent Calendars!\nMakers of all ages can work together to create their own unique STEAM themed advent calendars full of curious treats and treasures provided by the museum. Design\, decorate\, and create your own countdown calendars that reflect your own STEAM interests!\n\nWhat will yours look like? The periodic table?  Dinosaurs? Space facts? Engineering experiments and art? Why not all of the above?!\n\nThen swap them out with your friends and family and work with AMOS educators to stock them with treats and gifts that will keep you full of surprises for the rest of the month!\n\nTicket prices are $15 per person\, and $7 for AMOS members. Each ticket includes an advent calendar (plus gifts and treats) and all day admission to the museum.\n\nPurchase your tickets here!\n\nFAQ’s\nCan I leave my child unattended? \nNo. All children must have at least one caregiver present in the workshop. \nCan I purchase a ticket just for my child/children?  \nEveryone in your group who is 3+ or otherwise participating in the workshop will need to purchase a ticket. Family workshops are specially designed to cultivate curiosity and play for all individuals. Families will work together and be guided by an AMOS facilitator\, with each family member taking home a unique creation! \nWhat’s the ratio of child/adult? \nWe ask for a 3:1 ratio at the museum at all times. \n  \nFor any additional questions about our upcoming workshop\, please contact edu@ashevillescience.org.  \n 
URL:https://ashevillescience.org/event/adventcalendar/
CATEGORIES:Paid Workshop,STEAM Lab
ATTACH;FMTTYPE=image/jpeg:https://ashevillescience.org/wp-content/uploads/Winter-Workshop-1200-x-675-px.jpg
END:VEVENT
END:VCALENDAR