BEGIN:VCALENDAR
VERSION:2.0
PRODID:-//AMOS - ECPv6.15.20//NONSGML v1.0//EN
CALSCALE:GREGORIAN
METHOD:PUBLISH
X-WR-CALNAME:AMOS
X-ORIGINAL-URL:https://ashevillescience.org
X-WR-CALDESC:Events for AMOS
REFRESH-INTERVAL;VALUE=DURATION:PT1H
X-Robots-Tag:noindex
X-PUBLISHED-TTL:PT1H
BEGIN:VTIMEZONE
TZID:America/New_York
BEGIN:DAYLIGHT
TZOFFSETFROM:-0500
TZOFFSETTO:-0400
TZNAME:EDT
DTSTART:20250309T070000
END:DAYLIGHT
BEGIN:STANDARD
TZOFFSETFROM:-0400
TZOFFSETTO:-0500
TZNAME:EST
DTSTART:20251102T060000
END:STANDARD
BEGIN:DAYLIGHT
TZOFFSETFROM:-0500
TZOFFSETTO:-0400
TZNAME:EDT
DTSTART:20260308T070000
END:DAYLIGHT
BEGIN:STANDARD
TZOFFSETFROM:-0400
TZOFFSETTO:-0500
TZNAME:EST
DTSTART:20261101T060000
END:STANDARD
BEGIN:DAYLIGHT
TZOFFSETFROM:-0500
TZOFFSETTO:-0400
TZNAME:EDT
DTSTART:20270314T070000
END:DAYLIGHT
BEGIN:STANDARD
TZOFFSETFROM:-0400
TZOFFSETTO:-0500
TZNAME:EST
DTSTART:20271107T060000
END:STANDARD
END:VTIMEZONE
BEGIN:VEVENT
DTSTART;TZID=America/New_York:20260303T084500
DTEND;TZID=America/New_York:20260303T153000
DTSTAMP:20260421T005000
CREATED:20260128T155551Z
LAST-MODIFIED:20260128T162321Z
UID:2835-1772527500-1772551800@ashevillescience.org
SUMMARY:Exploring Perspective
DESCRIPTION:Exploring Perspective \nAt this one-day collaborative workshop between the Asheville Art Museum and Asheville Museum of Science\, campers will observe and interpret the natural world from the microscopic to the landscape scale\, and practice using tools and techniques from microscopes to impressionistic landscape painting.  \nCampers who are currently in Third through Fifth Grades are eligible for this one-day workshop held on a teacher in-service day for Asheville City and Buncombe County Schools. Campers will spend half the day at the art museum and the other half at the science museum. At the art museum the campers will visit the galleries and create art in the Studio. At the science museum the campers will explore exhibits and make observations in the STEAM lab using microscopes and hand lenses.  \nCampers will be walked between the art museum at 2 South Pack Square and the science museum at 43 Patton Ave. Detailed drop off and pick up instructions will be emailed to you within a few days of the camp date. Aftercare is available at Asheville Museum of Science from 3:30 – 5:00 pm with separate registration. \nClick here to register>>> \n 
URL:https://ashevillescience.org/event/exploring-perspective/
LOCATION:Asheville Museum of Science\, 43 Patton Ave\, Asheville\, NC\, 28801\, United States
CATEGORIES:Camps
ATTACH;FMTTYPE=image/jpeg:https://ashevillescience.org/wp-content/uploads/ArtScience-Power-Up-1200-x-675-px-1.jpg
END:VEVENT
BEGIN:VEVENT
DTSTART;TZID=America/New_York:20260406T084500
DTEND;TZID=America/New_York:20260406T153000
DTSTAMP:20260421T005000
CREATED:20260112T152818Z
LAST-MODIFIED:20260130T210914Z
UID:2796-1775465100-1775489400@ashevillescience.org
SUMMARY:Spring Break Camp Day 1
DESCRIPTION:Spring into STEAM!\nJoin AMOS for our Spring Break camp! Participate in STEAM-based activities games\, try your hand at art projects that incorporate science and math\, and experiment with new tools and materials in our tinkering challenges! \nSpend your Spring Break having fun and exploring science at our STEAM camp! Discover\, create\, and play all week long with cool experiments and hands-on activities for kids in Kindergarten – Fifth grades. Sign up for the whole week or pick and choose individual days. \nCamp Themes \n\nMonday 4/6 – Kids’ Chemistry Lab\nTuesday 4/7 – Space Explorers\nWednesday 4/8 – Archeology in Action\nThursday 4/9 – Plants and Pollination\nFriday 4/10 – Our Watery World\n\nNew: Half-day option just for Kindergarten and First graders! (Or sign them up for full day.) \nDrop Off  \n\nall campers: 8:45 – 9:00 am.\n\nPick Up \n\nhalf-day campers: 11:45am-12:15pm\nall-day campers: 3:00-3:30pm\n\nAftercare \n\navailable for all-day campers (additional fee): 3:30 – 5:00 pm\n\nRegister here>>>
URL:https://ashevillescience.org/event/spring-break-camp-day-1/
LOCATION:Asheville Museum of Science\, 43 Patton Ave\, Asheville\, NC\, 28801\, United States
CATEGORIES:Camps
ATTACH;FMTTYPE=image/jpeg:https://ashevillescience.org/wp-content/uploads/Spring-Break-Camp-1920x1080-1.jpg
END:VEVENT
BEGIN:VEVENT
DTSTART;TZID=America/New_York:20260407T084500
DTEND;TZID=America/New_York:20260407T153000
DTSTAMP:20260421T005000
CREATED:20260112T152846Z
LAST-MODIFIED:20260130T210933Z
UID:2797-1775551500-1775575800@ashevillescience.org
SUMMARY:Spring Break Camp Day 2
DESCRIPTION:Spring into STEAM!\nJoin AMOS for our Spring Break camp! Participate in STEAM-based activities games\, try your hand at art projects that incorporate science and math\, and experiment with new tools and materials in our tinkering challenges! \nSpend your Spring Break having fun and exploring science at our STEAM camp! Discover\, create\, and play all week long with cool experiments and hands-on activities for kids in  Kindergarten – Fifth grades. Sign up for the whole week or pick and choose individual days. \nCamp Themes \n\nMonday 4/6 – Kids’ Chemistry Lab\nTuesday 4/7 – Space Explorers\nWednesday 4/8 – Archeology in Action\nThursday 4/9 – Plants and Pollination\nFriday 4/10 – Our Watery World\n\nNew: Half-day option just for Kindergarten and First graders! (Or sign them up for full day.) \nDrop Off  \n\nall campers: 8:45 – 9:00 am.\n\nPick Up \n\nhalf-day campers: 11:45am-12:15pm\nall-day campers: 3:00-3:30pm\n\nAftercare \n\navailable for all-day campers (additional fee): 3:30 – 5:00 pm\n\nRegister here>>>
URL:https://ashevillescience.org/event/spring-break-camp-2/
LOCATION:Asheville Museum of Science\, 43 Patton Ave\, Asheville\, NC\, 28801\, United States
CATEGORIES:Camps
ATTACH;FMTTYPE=image/jpeg:https://ashevillescience.org/wp-content/uploads/Spring-Break-Camp-1920x1080-1.jpg
END:VEVENT
BEGIN:VEVENT
DTSTART;TZID=America/New_York:20260408T084500
DTEND;TZID=America/New_York:20260408T153000
DTSTAMP:20260421T005000
CREATED:20260112T152931Z
LAST-MODIFIED:20260130T210954Z
UID:2798-1775637900-1775662200@ashevillescience.org
SUMMARY:Spring Break Camp Day 3
DESCRIPTION:Spring into STEAM!\nJoin AMOS for our Spring Break camp! Participate in STEAM-based activities games\, try your hand at art projects that incorporate science and math\, and experiment with new tools and materials in our tinkering challenges! \nSpend your Spring Break having fun and exploring science at our STEAM camp! Discover\, create\, and play all week long with cool experiments and hands-on activities for kids in  Kindergarten – Fifth grades. Sign up for the whole week or pick and choose individual days. \nCamp Themes \n\nMonday 4/6 – Kids’ Chemistry Lab\nTuesday 4/7 – Space Explorers\nWednesday 4/8 – Archeology in Action\nThursday 4/9 – Plants and Pollination\nFriday 4/10 – Our Watery World\n\nNew: Half-day option just for Kindergarten and First graders! (Or sign them up for full day.) \nDrop Off  \n\nall campers: 8:45 – 9:00 am.\n\nPick Up \n\nhalf-day campers: 11:45am-12:15pm\nall-day campers: 3:00-3:30pm\n\nAftercare \n\navailable for all-day campers (additional fee): 3:30 – 5:00 pm\n\nRegister here>>>
URL:https://ashevillescience.org/event/spring-break-camp-day-3/
LOCATION:Asheville Museum of Science\, 43 Patton Ave\, Asheville\, NC\, 28801\, United States
CATEGORIES:Camps
ATTACH;FMTTYPE=image/jpeg:https://ashevillescience.org/wp-content/uploads/Spring-Break-Camp-1920x1080-1.jpg
END:VEVENT
BEGIN:VEVENT
DTSTART;TZID=America/New_York:20260409T084500
DTEND;TZID=America/New_York:20260409T153000
DTSTAMP:20260421T005000
CREATED:20260112T155429Z
LAST-MODIFIED:20260130T211011Z
UID:2799-1775724300-1775748600@ashevillescience.org
SUMMARY:Spring Break Camp Day 4
DESCRIPTION:Spring into STEAM!\nJoin AMOS for our Spring Break camp! Participate in STEAM-based activities games\, try your hand at art projects that incorporate science and math\, and experiment with new tools and materials in our tinkering challenges! \nSpend your Spring Break having fun and exploring science at our STEAM camp! Discover\, create\, and play all week long with cool experiments and hands-on activities for kids in  Kindergarten – Fifth grades. Sign up for the whole week or pick and choose individual days. \nCamp Themes \n\nMonday 4/6 – Kids’ Chemistry Lab\nTuesday 4/7 – Space Explorers\nWednesday 4/8 – Archeology in Action\nThursday 4/9 – Plants and Pollination\nFriday 4/10 – Our Watery World\n\nNew: Half-day option just for Kindergarten and First graders! (Or sign them up for full day.) \nDrop Off  \n\nall campers: 8:45 – 9:00 am.\n\nPick Up \n\nhalf-day campers: 11:45am-12:15pm\nall-day campers: 3:00-3:30pm\n\nAftercare \n\navailable for all-day campers (additional fee): 3:30 – 5:00 pm\n\nRegister here>>>
URL:https://ashevillescience.org/event/spring-break-camp-day-4/
LOCATION:Asheville Museum of Science\, 43 Patton Ave\, Asheville\, NC\, 28801\, United States
CATEGORIES:Camps
ATTACH;FMTTYPE=image/jpeg:https://ashevillescience.org/wp-content/uploads/Spring-Break-Camp-1920x1080-1.jpg
END:VEVENT
BEGIN:VEVENT
DTSTART;TZID=America/New_York:20260410T084500
DTEND;TZID=America/New_York:20260410T153000
DTSTAMP:20260421T005000
CREATED:20260112T155518Z
LAST-MODIFIED:20260130T211043Z
UID:2800-1775810700-1775835000@ashevillescience.org
SUMMARY:Spring Break Camp Day 5
DESCRIPTION:Spring into STEAM!\nJoin AMOS for our Spring Break camp! Participate in STEAM-based activities games\, try your hand at art projects that incorporate science and math\, and experiment with new tools and materials in our tinkering challenges! \nSpend your Spring Break having fun and exploring science at our STEAM camp! Discover\, create\, and play all week long with cool experiments and hands-on activities for kids in  Kindergarten – Fifth grades. Sign up for the whole week or pick and choose individual days. \nCamp Themes \n\nMonday 4/6 – Kids’ Chemistry Lab\nTuesday 4/7 – Space Explorers\nWednesday 4/8 – Archeology in Action\nThursday 4/9 – Plants and Pollination\nFriday 4/10 – Our Watery World\n\nNew: Half-day option just for Kindergarten and First graders! (Or sign them up for full day.) \nDrop Off  \n\nall campers: 8:45 – 9:00 am.\n\nPick Up \n\nhalf-day campers: 11:45am-12:15pm\nall-day campers: 3:00-3:30pm\n\nAftercare \n\navailable for all-day campers (additional fee): 3:30 – 5:00 pm\n\nRegister here>>>
URL:https://ashevillescience.org/event/spring-break-camp-day-5/
LOCATION:Asheville Museum of Science\, 43 Patton Ave\, Asheville\, NC\, 28801\, United States
CATEGORIES:Camps
ATTACH;FMTTYPE=image/jpeg:https://ashevillescience.org/wp-content/uploads/Spring-Break-Camp-1920x1080-1.jpg
END:VEVENT
BEGIN:VEVENT
DTSTART;TZID=America/New_York:20260615T084500
DTEND;TZID=America/New_York:20260807T153000
DTSTAMP:20260421T005000
CREATED:20260118T161549Z
LAST-MODIFIED:20260118T161549Z
UID:2807-1781513100-1786116600@ashevillescience.org
SUMMARY:Summer Science Camps
DESCRIPTION:The discovery that happens at AMOS camps makes concrete\, measurable contributions to student success\, not only in the classroom environment\, but in broader measures of youth development\, maturity\, and career success. \nEach week is filled with expert-designed STEAM programming to contribute to our campers’ interest in and understanding of concepts ranging from exploring our natural world\, and computer programming to chemistry. \nIn 2026 we are offering three camp age ranges: 1) rising kindergarten and first graders\, 2) rising second and third graders\, and 3) rising fourth and fifth graders. Registration for week-long packages begins January 12 and will be open through August 2. Registration for single days of camp will be available April 13 through August 6. \nChanges This Summer\n\nThree camp age ranges:\n\nrising kindergarten and first graders\nrising second and third graders\nrising fourth and fifth graders.\n\n\nRegistration dates:\n\nWeek-long packages: January 12 through August 2\nSingle days of camp:  April 13 through August 6\n\n\nRegistering for multiple weeks or multiple campers?\n\nContact us for assistance\n828.254.7162\ncamps@ashevillescience.org\n\n\n\nSummer Camp 2026 Weekly Themes\n\nWeek 1: June 15-19: Paleontology and Archaeology: Campers will explore fossils and evidence of the past with hands-on activities.\n\nRising K-1st Week 1 Registration>>>\nRising 2nd-3rd Week 1 Registration>>>\nRising 4th- 5th Week 1 Registration>>>\nWeek 1 Aftercare Registration>>>\n\n\nWeek 2: June 22-26: Tinkering Workshop: Campers will be introduced to the use of tools and materials with imaginative prompts. \n\nRising K-1st Week 2 Registration>>>\nRising 2nd-3rd Week 2 Registration>>>\nRising 4th-4th Week 2 Registration>>> \nWeek 2 Aftercare Registration>>>\n\n\nWeek 3: June 29 – July 3: Space Explorers: Campers will explore outer space!\n\nRising K-1st Week 3 Registration>>>\nRising 2nd-3rd Week 3 Registration>>>\nRising 4th-5th Week 3 Registration>>> \nWeek 3 Aftercare Registration>>>\n\n\nWeek 4: July 6-10: The Natural World: From animals and plants to rocks and volcanos\, campers will be surprised by the natural world.\n\nRising K-1st Week 4 Registration>>>\nRising 2nd-3rd Week 4 Registration>>>\nRising 4th-5th Week 4 Registration>>> \nWeek 4 Aftercare Registration>>>\n\n\nWeek 5: July 13-17: The Art of Science: Campers will be amazed at the ways science and art are interconnected!\n\nRising K-1st Week 5 Registration>>>\nRising 2nd-3rd Week 5 Registration>>>\nRising 4th-5th Week 5 Registration>>> \nWeek 5 Aftercare Registration>>>\n\n\nWeek 6: July 20-24: Chemistry: Campers will experiment with everyday chemicals to explore concepts like pH\, capillary action\, and chemical reactions.\n\nRising K-1st Week 6 Registration>>>\nRising 2nd-3rd Week 6 Registration>>>\nRising 4th-5th Week 6 Registration>>>\nWeek 6 Aftercare Registration>>>\n\n\nWeek 7: July 27 – July 31: Forces and Energy: Campers have fun with physics concepts to make things drop\, stop and roll!\n\nRising K-1st Week 7 Registration>>>\nRising 2nd-3rd Week 7 Registration>>>\nRising 4th-5th Week 7 Registration>>>\nWeek 7 Aftercare Registration>>>\n\n\nWeek 8: August 3 – 7: The Art of Science II: Campers will continue to be amazed at the ways science and art are interconnected!\n\nRising K-1st Week 8 Registration>>>\nRising 2nd-3rd Week 8 Registration>>>\nRising 4th-5th Week 8 Registration>>>\nWeek 8 Aftercare Registration>>>
URL:https://ashevillescience.org/event/summer-science-camps/
LOCATION:Asheville Museum of Science\, 43 Patton Ave\, Asheville\, NC\, 28801\, United States
CATEGORIES:Camps
ATTACH;FMTTYPE=image/jpeg:https://ashevillescience.org/wp-content/uploads/Summer-Camp-2026-700-x-500-px.jpg
END:VEVENT
END:VCALENDAR