BEGIN:VCALENDAR
VERSION:2.0
PRODID:-//AMOS - ECPv6.15.20//NONSGML v1.0//EN
CALSCALE:GREGORIAN
METHOD:PUBLISH
X-ORIGINAL-URL:https://ashevillescience.org
X-WR-CALDESC:Events for AMOS
REFRESH-INTERVAL;VALUE=DURATION:PT1H
X-Robots-Tag:noindex
X-PUBLISHED-TTL:PT1H
BEGIN:VTIMEZONE
TZID:America/New_York
BEGIN:DAYLIGHT
TZOFFSETFROM:-0500
TZOFFSETTO:-0400
TZNAME:EDT
DTSTART:20240310T070000
END:DAYLIGHT
BEGIN:STANDARD
TZOFFSETFROM:-0400
TZOFFSETTO:-0500
TZNAME:EST
DTSTART:20241103T060000
END:STANDARD
BEGIN:DAYLIGHT
TZOFFSETFROM:-0500
TZOFFSETTO:-0400
TZNAME:EDT
DTSTART:20250309T070000
END:DAYLIGHT
BEGIN:STANDARD
TZOFFSETFROM:-0400
TZOFFSETTO:-0500
TZNAME:EST
DTSTART:20251102T060000
END:STANDARD
BEGIN:DAYLIGHT
TZOFFSETFROM:-0500
TZOFFSETTO:-0400
TZNAME:EDT
DTSTART:20260308T070000
END:DAYLIGHT
BEGIN:STANDARD
TZOFFSETFROM:-0400
TZOFFSETTO:-0500
TZNAME:EST
DTSTART:20261101T060000
END:STANDARD
END:VTIMEZONE
BEGIN:VEVENT
DTSTART;TZID=America/New_York:20250807T090000
DTEND;TZID=America/New_York:20250807T150000
DTSTAMP:20260420T173019
CREATED:20250514T192313Z
LAST-MODIFIED:20250514T192313Z
UID:2246-1754557200-1754578800@ashevillescience.org
SUMMARY:Summer Science Camp - Week 8
DESCRIPTION:The discovery that happens at AMOS camps makes concrete\, measurable contributions to student success\, not only in the classroom environment\, but in broader measures of youth development\, maturity\, and career success. Each week is filled with expert-designed STEAM programming to contribute to our campers’ interest in and understanding of concepts ranging from exploring our natural world. \nWeek 8 – Space Explorers for grades K-2 and grades 3-5\n\nWelcome to Space Explorers\, an interstellar journey using cutting-edge NASA technology and where understanding the next frontier comes to life! We’ll delve into the mysteries of the solar system\, our galaxy\, and the vast universe. Constructing intricate models of Earth\, Moon\, and Sun\, we’ll unravel the complexities of celestial motion.\nBut that’s not all! Our cosmic adventure extends beyond models. Campers will engage in movement games\, undergo astronaut training\, and conduct physics experiments\, gaining firsthand insight into the fascinating world of space exploration.\n\nJoin us for an exhilarating exploration of space\, where young Space Explorers discover the wonders of the cosmos\, unravel the secrets of celestial motion\, and get a glimpse into the thrilling world of space travel!\n\n\n>>>Register for Week 8 Grades K-2>>>\n>>>Register for Week 8 Grades 3-5>>> \n>>>Register for Week 8 After Care>>> \n  \n 
URL:https://ashevillescience.org/event/summer-science-camp-week-8-4/
LOCATION:Asheville Museum of Science\, 43 Patton Ave\, Asheville\, NC\, 28801\, United States
CATEGORIES:Camps
ATTACH;FMTTYPE=image/jpeg:https://ashevillescience.org/wp-content/uploads/SUMMER-1920-x-1080-px.jpg
ORGANIZER;CN="Asheville Museum of Science":MAILTO:abryant
END:VEVENT
END:VCALENDAR