BEGIN:VCALENDAR
VERSION:2.0
PRODID:-//AMOS - ECPv6.15.20//NONSGML v1.0//EN
CALSCALE:GREGORIAN
METHOD:PUBLISH
X-ORIGINAL-URL:https://ashevillescience.org
X-WR-CALDESC:Events for AMOS
REFRESH-INTERVAL;VALUE=DURATION:PT1H
X-Robots-Tag:noindex
X-PUBLISHED-TTL:PT1H
BEGIN:VTIMEZONE
TZID:America/New_York
BEGIN:DAYLIGHT
TZOFFSETFROM:-0500
TZOFFSETTO:-0400
TZNAME:EDT
DTSTART:20240310T070000
END:DAYLIGHT
BEGIN:STANDARD
TZOFFSETFROM:-0400
TZOFFSETTO:-0500
TZNAME:EST
DTSTART:20241103T060000
END:STANDARD
BEGIN:DAYLIGHT
TZOFFSETFROM:-0500
TZOFFSETTO:-0400
TZNAME:EDT
DTSTART:20250309T070000
END:DAYLIGHT
BEGIN:STANDARD
TZOFFSETFROM:-0400
TZOFFSETTO:-0500
TZNAME:EST
DTSTART:20251102T060000
END:STANDARD
BEGIN:DAYLIGHT
TZOFFSETFROM:-0500
TZOFFSETTO:-0400
TZNAME:EDT
DTSTART:20260308T070000
END:DAYLIGHT
BEGIN:STANDARD
TZOFFSETFROM:-0400
TZOFFSETTO:-0500
TZNAME:EST
DTSTART:20261101T060000
END:STANDARD
END:VTIMEZONE
BEGIN:VEVENT
DTSTART;TZID=America/New_York:20250801T090000
DTEND;TZID=America/New_York:20250801T150000
DTSTAMP:20260420T174030
CREATED:20250514T191936Z
LAST-MODIFIED:20250514T191936Z
UID:2242-1754038800-1754060400@ashevillescience.org
SUMMARY:Summer Science Camp - Week 7
DESCRIPTION:The discovery that happens at AMOS camps makes concrete\, measurable contributions to student success\, not only in the classroom environment\, but in broader measures of youth development\, maturity\, and career success. Each week is filled with expert-designed STEAM programming to contribute to our campers’ interest in and understanding of concepts ranging from exploring our natural world. \nWeek 7 – The Art of Science for grades K-2 and for grades 3-5\nWelcome to The Art of Science\, the ultimate fusion of science and art! Get ready for a week filled with exploration and creativity as we dive into the wonders of Astronomy\, Geology\, Chemistry\, Physics\, and Earth Science. Paint galaxies\, sculpt geological wonders\, and more! Campers will don their lab coats and goggles to unleash their inner scientists\, conducting exciting experiments that spark their curiosity and ignite their passion for discovery! Whether it’s creating a celestial masterpiece or molding the mysteries of Earth\, we’ll use their artistic talents to express the marvels of the scientific world. Expect a week filled with laughter\, learning\, and limitless imagination as we transform ideas into tangible creations. Join us for The Art of Science – where science meets art in the most thrilling and kid-friendly way possible!\n\n>>>Register for Week 7 Grades K-2>>>\n>>>Register for Week 7 Grades 3-5>>> \n>>>Register for Week 7 After Care>>> \n  \n 
URL:https://ashevillescience.org/event/summer-science-camp-week-7-5/
LOCATION:Asheville Museum of Science\, 43 Patton Ave\, Asheville\, NC\, 28801\, United States
CATEGORIES:Camps
ATTACH;FMTTYPE=image/jpeg:https://ashevillescience.org/wp-content/uploads/SUMMER-1920-x-1080-px.jpg
ORGANIZER;CN="Asheville Museum of Science":MAILTO:abryant
END:VEVENT
END:VCALENDAR