BEGIN:VCALENDAR
VERSION:2.0
PRODID:-//AMOS - ECPv6.15.20//NONSGML v1.0//EN
CALSCALE:GREGORIAN
METHOD:PUBLISH
X-WR-CALNAME:AMOS
X-ORIGINAL-URL:https://ashevillescience.org
X-WR-CALDESC:Events for AMOS
REFRESH-INTERVAL;VALUE=DURATION:PT1H
X-Robots-Tag:noindex
X-PUBLISHED-TTL:PT1H
BEGIN:VTIMEZONE
TZID:America/New_York
BEGIN:DAYLIGHT
TZOFFSETFROM:-0500
TZOFFSETTO:-0400
TZNAME:EDT
DTSTART:20240310T070000
END:DAYLIGHT
BEGIN:STANDARD
TZOFFSETFROM:-0400
TZOFFSETTO:-0500
TZNAME:EST
DTSTART:20241103T060000
END:STANDARD
BEGIN:DAYLIGHT
TZOFFSETFROM:-0500
TZOFFSETTO:-0400
TZNAME:EDT
DTSTART:20250309T070000
END:DAYLIGHT
BEGIN:STANDARD
TZOFFSETFROM:-0400
TZOFFSETTO:-0500
TZNAME:EST
DTSTART:20251102T060000
END:STANDARD
BEGIN:DAYLIGHT
TZOFFSETFROM:-0500
TZOFFSETTO:-0400
TZNAME:EDT
DTSTART:20260308T070000
END:DAYLIGHT
BEGIN:STANDARD
TZOFFSETFROM:-0400
TZOFFSETTO:-0500
TZNAME:EST
DTSTART:20261101T060000
END:STANDARD
END:VTIMEZONE
BEGIN:VEVENT
DTSTART;TZID=America/New_York:20250707T090000
DTEND;TZID=America/New_York:20250707T150000
DTSTAMP:20260420T210746
CREATED:20250514T185456Z
LAST-MODIFIED:20250514T190200Z
UID:2222-1751878800-1751900400@ashevillescience.org
SUMMARY:Summer Science Camp - Week 4
DESCRIPTION:The discovery that happens at AMOS camps makes concrete\, measurable contributions to student success\, not only in the classroom environment\, but in broader measures of youth development\, maturity\, and career success. Each week is filled with expert-designed STEAM programming to contribute to our campers’ interest in and understanding of concepts ranging from exploring our natural world. \nWeek 4 – Animals\, Plants\, and You for grades K-2\nWelcome to Animals\, Plants\, & You for our K-2nd explorers! Campers will begin to learn about basic Biology. What are the amazing colors\, shapes\, and sizes animals can take in the world. What do plants have in common with growing Campers?\n\n>>>Register for Week 4 Grades K-2>>>\n\nWeek 4 – Life on Earth for grades 3-5\n\nWelcome to Life on Earth for our 3rd – 5th grade explorers. Campers will explore the delicate balance of ecosystems. How does life survive on our planet\, and how can we protect is as a part of that balance? Campers will learn about climate resiliency and how animals may adapt to a changing world. \n>>>Register for Week 4 Grades 3-5>>> \n>>>Register for Week 4 After Care>>> \n  \n 
URL:https://ashevillescience.org/event/summer-science-camp-week-4/
LOCATION:Asheville Museum of Science\, 43 Patton Ave\, Asheville\, NC\, 28801\, United States
CATEGORIES:Camps
ATTACH;FMTTYPE=image/jpeg:https://ashevillescience.org/wp-content/uploads/SUMMER-1920-x-1080-px.jpg
ORGANIZER;CN="Asheville Museum of Science":MAILTO:abryant
END:VEVENT
END:VCALENDAR