BEGIN:VCALENDAR
VERSION:2.0
PRODID:-//AMOS - ECPv6.15.20//NONSGML v1.0//EN
CALSCALE:GREGORIAN
METHOD:PUBLISH
X-ORIGINAL-URL:https://ashevillescience.org
X-WR-CALDESC:Events for AMOS
REFRESH-INTERVAL;VALUE=DURATION:PT1H
X-Robots-Tag:noindex
X-PUBLISHED-TTL:PT1H
BEGIN:VTIMEZONE
TZID:America/New_York
BEGIN:DAYLIGHT
TZOFFSETFROM:-0500
TZOFFSETTO:-0400
TZNAME:EDT
DTSTART:20240310T070000
END:DAYLIGHT
BEGIN:STANDARD
TZOFFSETFROM:-0400
TZOFFSETTO:-0500
TZNAME:EST
DTSTART:20241103T060000
END:STANDARD
BEGIN:DAYLIGHT
TZOFFSETFROM:-0500
TZOFFSETTO:-0400
TZNAME:EDT
DTSTART:20250309T070000
END:DAYLIGHT
BEGIN:STANDARD
TZOFFSETFROM:-0400
TZOFFSETTO:-0500
TZNAME:EST
DTSTART:20251102T060000
END:STANDARD
BEGIN:DAYLIGHT
TZOFFSETFROM:-0500
TZOFFSETTO:-0400
TZNAME:EDT
DTSTART:20260308T070000
END:DAYLIGHT
BEGIN:STANDARD
TZOFFSETFROM:-0400
TZOFFSETTO:-0500
TZNAME:EST
DTSTART:20261101T060000
END:STANDARD
END:VTIMEZONE
BEGIN:VEVENT
DTSTART;TZID=America/New_York:20250620T090000
DTEND;TZID=America/New_York:20250620T150000
DTSTAMP:20260421T003323
CREATED:20250514T182621Z
LAST-MODIFIED:20250514T182621Z
UID:2212-1750410000-1750431600@ashevillescience.org
SUMMARY:Summer Science Camp - Week 1
DESCRIPTION:The discovery that happens at AMOS camps makes concrete\, measurable contributions to student success\, not only in the classroom environment\, but in broader measures of youth development\, maturity\, and career success. Each week is filled with expert-designed STEAM programming to contribute to our campers’ interest in and understanding of concepts ranging from exploring our natural world. \nWeek 1 – Dino Digs – K-2\nWelcome to Dinosaurs for our K-2 explorers! Get ready for a prehistoric adventure as campers dive into the world of dinosaurs. From dino discoveries and fossil fun to roaring adventures and creative crafts\, each day is a journey through time. Campers explore dino habitats\, unearth fossils\, and even become paleontologists. It’s a week of dino-mite learning and roaring excitement! \n>>>Register for Week 1 Grades K-2>>> \nWeek 1 – Time Travelers – 3-5\nWelcome to Engineering Time Travelers for our 3rd – 5th grade explorers! Embark on an engineering journey from simple machines to time machines and every automation in between. Campers explore the magic of gears\, levers\, and pulleys\, design their own inventions\, and even create a mini time machine. It’s a week of hands-on fun\, creative engineering\, and time-traveling adventures! \n>>>Register for Week 1 Grades 3-5>>> \n>>>Register for Week 1 After Care>>> \n  \n 
URL:https://ashevillescience.org/event/summer-science-camp-week-1-5/
LOCATION:Asheville Museum of Science\, 43 Patton Ave\, Asheville\, NC\, 28801\, United States
CATEGORIES:Camps
ATTACH;FMTTYPE=image/jpeg:https://ashevillescience.org/wp-content/uploads/SUMMER-1920-x-1080-px.jpg
ORGANIZER;CN="Asheville Museum of Science":MAILTO:abryant
END:VEVENT
END:VCALENDAR