BEGIN:VCALENDAR
VERSION:2.0
PRODID:-//AMOS - ECPv6.15.20//NONSGML v1.0//EN
CALSCALE:GREGORIAN
METHOD:PUBLISH
X-WR-CALNAME:AMOS
X-ORIGINAL-URL:https://ashevillescience.org
X-WR-CALDESC:Events for AMOS
REFRESH-INTERVAL;VALUE=DURATION:PT1H
X-Robots-Tag:noindex
X-PUBLISHED-TTL:PT1H
BEGIN:VTIMEZONE
TZID:America/New_York
BEGIN:DAYLIGHT
TZOFFSETFROM:-0500
TZOFFSETTO:-0400
TZNAME:EDT
DTSTART:20230312T070000
END:DAYLIGHT
BEGIN:STANDARD
TZOFFSETFROM:-0400
TZOFFSETTO:-0500
TZNAME:EST
DTSTART:20231105T060000
END:STANDARD
BEGIN:DAYLIGHT
TZOFFSETFROM:-0500
TZOFFSETTO:-0400
TZNAME:EDT
DTSTART:20240310T070000
END:DAYLIGHT
BEGIN:STANDARD
TZOFFSETFROM:-0400
TZOFFSETTO:-0500
TZNAME:EST
DTSTART:20241103T060000
END:STANDARD
BEGIN:DAYLIGHT
TZOFFSETFROM:-0500
TZOFFSETTO:-0400
TZNAME:EDT
DTSTART:20250309T070000
END:DAYLIGHT
BEGIN:STANDARD
TZOFFSETFROM:-0400
TZOFFSETTO:-0500
TZNAME:EST
DTSTART:20251102T060000
END:STANDARD
END:VTIMEZONE
BEGIN:VEVENT
DTSTART;TZID=America/New_York:20241230T090000
DTEND;TZID=America/New_York:20241230T153000
DTSTAMP:20260421T192917
CREATED:20241123T184331Z
LAST-MODIFIED:20241202T184645Z
UID:1910-1735549200-1735572600@ashevillescience.org
SUMMARY:Winter Day Camps
DESCRIPTION:  \nWarm up the kids this winter with 5 science-filled days of camp!\nPacked with field trips\, experiments\, crafts\, and maybe some cocoa\, your kiddos will discover that science is everywhere. Camp is designed for kids grades 1-5. \nAvailable days are Dec 23\, Dec 27\, Dec 30\, Jan 2\, and Jan 3 from 9am until 3:30pm with optional aftercare available until 5pm. Cost per day per person is $85 with an addition $15 per person per day for optional aftercare. Space is limited so sign up today!
URL:https://ashevillescience.org/event/winter-day-camps-2/
LOCATION:Asheville Museum of Science\, 43 Patton Ave\, Asheville\, NC\, 28801\, United States
CATEGORIES:Camps
ATTACH;FMTTYPE=image/jpeg:https://ashevillescience.org/wp-content/uploads/Winter-1200-x-675-px.jpg
END:VEVENT
END:VCALENDAR