BEGIN:VCALENDAR
VERSION:2.0
PRODID:-//AMOS - ECPv6.15.20//NONSGML v1.0//EN
CALSCALE:GREGORIAN
METHOD:PUBLISH
X-WR-CALNAME:AMOS
X-ORIGINAL-URL:https://ashevillescience.org
X-WR-CALDESC:Events for AMOS
REFRESH-INTERVAL;VALUE=DURATION:PT1H
X-Robots-Tag:noindex
X-PUBLISHED-TTL:PT1H
BEGIN:VTIMEZONE
TZID:America/New_York
BEGIN:DAYLIGHT
TZOFFSETFROM:-0500
TZOFFSETTO:-0400
TZNAME:EDT
DTSTART:20240310T070000
END:DAYLIGHT
BEGIN:STANDARD
TZOFFSETFROM:-0400
TZOFFSETTO:-0500
TZNAME:EST
DTSTART:20241103T060000
END:STANDARD
BEGIN:DAYLIGHT
TZOFFSETFROM:-0500
TZOFFSETTO:-0400
TZNAME:EDT
DTSTART:20250309T070000
END:DAYLIGHT
BEGIN:STANDARD
TZOFFSETFROM:-0400
TZOFFSETTO:-0500
TZNAME:EST
DTSTART:20251102T060000
END:STANDARD
BEGIN:DAYLIGHT
TZOFFSETFROM:-0500
TZOFFSETTO:-0400
TZNAME:EDT
DTSTART:20260308T070000
END:DAYLIGHT
BEGIN:STANDARD
TZOFFSETFROM:-0400
TZOFFSETTO:-0500
TZNAME:EST
DTSTART:20261101T060000
END:STANDARD
END:VTIMEZONE
BEGIN:VEVENT
DTSTART;TZID=America/New_York:20251222T084500
DTEND;TZID=America/New_York:20251222T153000
DTSTAMP:20260420T003627
CREATED:20251031T170748Z
LAST-MODIFIED:20251211T160803Z
UID:2528-1766393100-1766417400@ashevillescience.org
SUMMARY:Winter Science Camp
DESCRIPTION:Register here>>> \n 
URL:https://ashevillescience.org/event/winter-science-camp/
LOCATION:Asheville Museum of Science\, 43 Patton Ave\, Asheville\, NC\, 28801\, United States
CATEGORIES:Camps
ATTACH;FMTTYPE=image/jpeg:https://ashevillescience.org/wp-content/uploads/Winter-camp-enews-Presentation.jpg
ORGANIZER;CN="Asheville Museum of Science":MAILTO:abryant
END:VEVENT
BEGIN:VEVENT
DTSTART;TZID=America/New_York:20251223T084500
DTEND;TZID=America/New_York:20251223T153000
DTSTAMP:20260420T003627
CREATED:20251031T170835Z
LAST-MODIFIED:20251211T160748Z
UID:2529-1766479500-1766503800@ashevillescience.org
SUMMARY:Winter Science Camp
DESCRIPTION:Each day is filled with expert-designed STEAM programming to contribute to our campers’ interest in and understanding of concepts ranging from forensics and celestial navigation to chemistry. \nRegister for one or more of 5 fun-filled days of science camp over the winter break: Dec 22\, Dec. 23\, Dec 29\, Dec. 30 and Jan. 2\, with a different science theme each day! Click here for details>>> \nRegister here>>>
URL:https://ashevillescience.org/event/winter-science-camp-2/
LOCATION:Asheville Museum of Science\, 43 Patton Ave\, Asheville\, NC\, 28801\, United States
CATEGORIES:Camps
ATTACH;FMTTYPE=image/jpeg:https://ashevillescience.org/wp-content/uploads/Winter-camp-enews-Presentation.jpg
ORGANIZER;CN="Asheville Museum of Science":MAILTO:abryant
END:VEVENT
BEGIN:VEVENT
DTSTART;TZID=America/New_York:20251229T084500
DTEND;TZID=America/New_York:20251229T153000
DTSTAMP:20260420T003627
CREATED:20251031T170931Z
LAST-MODIFIED:20251211T160734Z
UID:2530-1766997900-1767022200@ashevillescience.org
SUMMARY:Winter Science Camp
DESCRIPTION:  \nRegister here>>>
URL:https://ashevillescience.org/event/winter-science-camp-3/
LOCATION:Asheville Museum of Science\, 43 Patton Ave\, Asheville\, NC\, 28801\, United States
CATEGORIES:Camps
ATTACH;FMTTYPE=image/jpeg:https://ashevillescience.org/wp-content/uploads/Winter-camp-enews-Presentation.jpg
ORGANIZER;CN="Asheville Museum of Science":MAILTO:abryant
END:VEVENT
BEGIN:VEVENT
DTSTART;TZID=America/New_York:20251230T084500
DTEND;TZID=America/New_York:20251230T153000
DTSTAMP:20260420T003627
CREATED:20251031T171019Z
LAST-MODIFIED:20260118T164933Z
UID:2531-1767084300-1767108600@ashevillescience.org
SUMMARY:Winter Science Camp
DESCRIPTION:  \nRegister here>>>
URL:https://ashevillescience.org/event/winter-science-camp-4/
LOCATION:Asheville Museum of Science\, 43 Patton Ave\, Asheville\, NC\, 28801\, United States
CATEGORIES:Camps
ATTACH;FMTTYPE=image/jpeg:https://ashevillescience.org/wp-content/uploads/Winter-camp-enews-Presentation.jpg
ORGANIZER;CN="Asheville Museum of Science":MAILTO:abryant
END:VEVENT
END:VCALENDAR